BEGIN:VCALENDAR
VERSION:2.0
PRODID:-//TYPO3/NONSGML Calendarize//EN
BEGIN:VEVENT
UID:calendarize-der-prank-april-april-5127
DTSTAMP:20260420T170806Z
DTSTART:20260516T130000Z
DTEND:20260516T150000Z
SUMMARY:Der Prank – April\, April! · 
DESCRIPTION:D\, CH 2025\, Noèl Gabriel Kipp\, Max Zheng\, Maïmouna Rudol
 ph-Mbacké\, Laura Tonke · DCP\, OF
X-ALT-DESC;FMTTYPE=text/html:<p>D\, CH 2025\, Noèl Gabriel Kipp\, Max Zhe
 ng\, Maïmouna Rudolph-Mbacké\, Laura Tonke · DCP\, OF</p>
LOCATION:Arsenal
END:VEVENT
END:VCALENDAR
