BEGIN:VCALENDAR
VERSION:2.0
PRODID:-//TYPO3/NONSGML Calendarize//EN
BEGIN:VEVENT
UID:calendarize-down-to-the-bone-5158
DTSTAMP:20260420T170436Z
DTSTART:20260602T180000Z
DTEND:20260602T200000Z
SUMMARY:Down to the Bone · 
DESCRIPTION:USA 2004\, Vera Farmiga\, Hugh Dillon\, Clint Jordan · 35 mm\
 , OmdU
X-ALT-DESC;FMTTYPE=text/html:<p>USA 2004\, Vera Farmiga\, Hugh Dillon\, Cl
 int Jordan · 35 mm\, OmdU</p>
LOCATION:Arsenal
END:VEVENT
END:VCALENDAR
