BEGIN:VCALENDAR
VERSION:2.0
PRODID:-//TYPO3/NONSGML Calendarize//EN
BEGIN:VEVENT
UID:calendarize-estate-violenta-5135
DTSTAMP:20260420T170623Z
DTSTART:20260519T180000Z
DTEND:20260519T200000Z
SUMMARY:Estate violenta · Violent Summer
DESCRIPTION:Italien\, Frankreich 1959\, Eleonora Rossi Drago\, Jean-Louis 
 Trintignant · 35 mm\, OmeU
X-ALT-DESC;FMTTYPE=text/html:<p>Italien\, Frankreich 1959\, Eleonora Rossi
  Drago\, Jean-Louis Trintignant · 35 mm\, OmeU</p>
LOCATION:Arsenal
END:VEVENT
END:VCALENDAR
