BEGIN:VCALENDAR
VERSION:2.0
PRODID:-//TYPO3/NONSGML Calendarize//EN
BEGIN:VEVENT
UID:calendarize-exprmntl-4-knokke-5113
DTSTAMP:20260420T170240Z
DTSTART:20260506T183000Z
DTEND:20260506T200000Z
SUMMARY:Exprmntl 4 Knokke · 
DESCRIPTION:BRD 1968 · Digital file\, OmeU Einführung
X-ALT-DESC;FMTTYPE=text/html:<p>BRD 1968 · Digital file\, OmeU<br/><em> E
 inführung</em></p>
LOCATION:Arsenal
END:VEVENT
END:VCALENDAR
