BEGIN:VCALENDAR
VERSION:2.0
PRODID:-//TYPO3/NONSGML Calendarize//EN
BEGIN:VEVENT
UID:calendarize-habibi-hussein-5111
DTSTAMP:20260420T170013Z
DTSTART:20260505T180000Z
DTEND:20260505T200000Z
SUMMARY:Habibi Hussein · 
DESCRIPTION:Palästina\, Deutschland\, Saudi-Arabien\, Schweden 2025 · DC
 P\, OmeU Einführung
X-ALT-DESC;FMTTYPE=text/html:<p>Palästina\, Deutschland\, Saudi-Arabien\,
  Schweden 2025 · DCP\, OmeU<br/><em> Einführung</em></p>
LOCATION:Arsenal
END:VEVENT
END:VCALENDAR
