BEGIN:VCALENDAR
VERSION:2.0
PRODID:-//TYPO3/NONSGML Calendarize//EN
BEGIN:VEVENT
UID:calendarize-il-deserto-dei-tartari-5143
DTSTAMP:20260420T170901Z
DTSTART:20260523T180000Z
DTEND:20260523T203000Z
SUMMARY:Il deserto dei tartari · Die Tatarenwüste
DESCRIPTION:Italien\, Frankreich\, BRD 1976\, Vittorio Gassman\, Jacques P
 errin\, Jean-Louis Trintignant\, Philippe Noiret\, Giuliano Gemma\, Helmut
  Griem\, Fernando Rey\, Max von Sydow\, Francisco Rabal\, Laurent Terzieff
  · 35 mm\, OmeU
X-ALT-DESC;FMTTYPE=text/html:<p>Italien\, Frankreich\, BRD 1976\, Vittorio
  Gassman\, Jacques Perrin\, Jean-Louis Trintignant\, Philippe Noiret\, Giu
 liano Gemma\, Helmut Griem\, Fernando Rey\, Max von Sydow\, Francisco Raba
 l\, Laurent Terzieff · 35 mm\, OmeU</p>
LOCATION:Arsenal
END:VEVENT
END:VCALENDAR
