BEGIN:VCALENDAR
VERSION:2.0
PRODID:-//TYPO3/NONSGML Calendarize//EN
BEGIN:VEVENT
UID:calendarize-le-15-8-5109
DTSTAMP:20260420T170356Z
DTSTART:20260504T170000Z
DTEND:20260504T180000Z
SUMMARY:Le 15/8 · 
DESCRIPTION:Frankreich\, Belgien 1973\, Mit LE 15/8 beginnt das Programm i
 m Privatraum. Eine junge Finnin\, die Arbeit in Paris sucht\, kam in Szlin
 gerbaums Wohnung unter\, wo sie unaufhörlich redete. Nicht ohne Publikum:
  Er und Akerman nahmen ihren Redeschwall auf Tonband auf und transkribiert
 en ihn\, um ihn dann von ihr selbst vorlesen zu lassen. Der Titel bezieht 
 sich auf den Tag der Dreharbeiten. Obwohl LE 15/8 vieles von Akermans spä
 teren Filmen vorwegnimmt\, blieb er weitgehend unbekannt und war in Deutsc
 hland fast noch nie zu sehen. · DCP\, OmdU Einführung
X-ALT-DESC;FMTTYPE=text/html:<p>Frankreich\, Belgien 1973\, Mit LE 15/8 be
 ginnt das Programm im Privatraum. Eine junge Finnin\, die Arbeit in Paris 
 sucht\, kam in Szlingerbaums Wohnung unter\, wo sie unaufhörlich redete. 
 Nicht ohne Publikum: Er und Akerman nahmen ihren Redeschwall auf Tonband a
 uf und transkribierten ihn\, um ihn dann von ihr selbst vorlesen zu lassen
 . Der Titel bezieht sich auf den Tag der Dreharbeiten. Obwohl LE 15/8 viel
 es von Akermans späteren Filmen vorwegnimmt\, blieb er weitgehend unbekan
 nt und war in Deutschland fast noch nie zu sehen. · DCP\, OmdU<br/><em> E
 inführung</em></p>
LOCATION:Arsenal
END:VEVENT
END:VCALENDAR
