BEGIN:VCALENDAR
VERSION:2.0
PRODID:-//TYPO3/NONSGML Calendarize//EN
BEGIN:VEVENT
UID:calendarize-le-ragazze-di-san-frediano-5116
DTSTAMP:20260420T170902Z
DTSTART:20260509T180000Z
DTEND:20260509T200000Z
SUMMARY:Le ragazze di San Frediano · The Girls of San Frediano
DESCRIPTION:Italien 1955 · 35 mm\, OmeU
X-ALT-DESC;FMTTYPE=text/html:<p>Italien 1955 · 35 mm\, OmeU</p>
LOCATION:Arsenal
END:VEVENT
END:VCALENDAR
