BEGIN:VCALENDAR
VERSION:2.0
PRODID:-//TYPO3/NONSGML Calendarize//EN
BEGIN:VEVENT
UID:calendarize-offenes-kino-kurzfilme-aus-der-sammlung-des-arsenal-5107
DTSTAMP:20260420T170953Z
DTSTART:20260503T180000Z
DTEND:20260503T200000Z
SUMMARY:Offenes Kino: Kurzfilme aus der Sammlung des Arsenal · 
DESCRIPTION:
X-ALT-DESC;FMTTYPE=text/html:<p></p>
LOCATION:Arsenal
END:VEVENT
END:VCALENDAR
