BEGIN:VCALENDAR
VERSION:2.0
PRODID:-//TYPO3/NONSGML Calendarize//EN
BEGIN:VEVENT
UID:calendarize-speedy-5144
DTSTAMP:20260420T165119Z
DTSTART:20260524T130000Z
DTEND:20260524T150000Z
SUMMARY:Speedy · Straßenjagd mit Speedy
DESCRIPTION:USA 1928\, Harold Lloyd\, Ann Christy\, Bert Woodruff\, Babe R
 uth · DCP\, Englische Zwischentitel
X-ALT-DESC;FMTTYPE=text/html:<p>USA 1928\, Harold Lloyd\, Ann Christy\, Be
 rt Woodruff\, Babe Ruth · DCP\, Englische Zwischentitel</p>
LOCATION:Arsenal
END:VEVENT
END:VCALENDAR
