BEGIN:VCALENDAR
VERSION:2.0
PRODID:-//TYPO3/NONSGML Calendarize//EN
BEGIN:VEVENT
UID:calendarize-togetherness-5119
DTSTAMP:20260420T170356Z
DTSTART:20260510T153000Z
DTEND:20260510T170000Z
SUMMARY:Togetherness · 
DESCRIPTION: · Digital file
X-ALT-DESC;FMTTYPE=text/html:<p> · Digital file</p>
LOCATION:Arsenal
END:VEVENT
END:VCALENDAR
